BEGIN:VCALENDAR
VERSION:2.0
PRODID:-//Resources For Resilience - ECPv6.15.20//NONSGML v1.0//EN
CALSCALE:GREGORIAN
METHOD:PUBLISH
X-WR-CALNAME:Resources For Resilience
X-ORIGINAL-URL:https://resourcesforresilience.org
X-WR-CALDESC:Events for Resources For Resilience
REFRESH-INTERVAL;VALUE=DURATION:PT1H
X-Robots-Tag:noindex
X-PUBLISHED-TTL:PT1H
BEGIN:VTIMEZONE
TZID:America/New_York
BEGIN:DAYLIGHT
TZOFFSETFROM:-0500
TZOFFSETTO:-0400
TZNAME:EDT
DTSTART:20240310T070000
END:DAYLIGHT
BEGIN:STANDARD
TZOFFSETFROM:-0400
TZOFFSETTO:-0500
TZNAME:EST
DTSTART:20241103T060000
END:STANDARD
BEGIN:DAYLIGHT
TZOFFSETFROM:-0500
TZOFFSETTO:-0400
TZNAME:EDT
DTSTART:20250309T070000
END:DAYLIGHT
BEGIN:STANDARD
TZOFFSETFROM:-0400
TZOFFSETTO:-0500
TZNAME:EST
DTSTART:20251102T060000
END:STANDARD
BEGIN:DAYLIGHT
TZOFFSETFROM:-0500
TZOFFSETTO:-0400
TZNAME:EDT
DTSTART:20260308T070000
END:DAYLIGHT
BEGIN:STANDARD
TZOFFSETFROM:-0400
TZOFFSETTO:-0500
TZNAME:EST
DTSTART:20261101T060000
END:STANDARD
END:VTIMEZONE
BEGIN:VEVENT
DTSTART;VALUE=DATE:20251106
DTEND;VALUE=DATE:20251108
DTSTAMP:20260419T205727
CREATED:20250828T141923Z
LAST-MODIFIED:20251022T152503Z
UID:10000009-1762387200-1762559999@resourcesforresilience.org
SUMMARY:Reconnect for Resilience (AVL)
DESCRIPTION:November 6-7\, 2025 | 9am to 5pm EST in Asheville\, NC \nLearn easy-to-use\, shareable tools that are designed for real life—whether you’re stressed at work\, in your car\, or even at the store. In this 14-hour\, interactive training\, you’ll learn the science of stress management and ways to build resilience in yourself and those around you. \n\nFREE and open to all WNC residents\, thanks to the support of our generous partners\nREGISTER HERE to attend and receive additional event details
URL:https://resourcesforresilience.org/event/reconnect-for-resilience/
LOCATION:St Mary’s Episcopal Church\, 337 Charlotte St\, Asheville\, NC\, 28801
CATEGORIES:In-Person Events
ATTACH;FMTTYPE=image/png:https://resourcesforresilience.org/wp-content/uploads/2025/08/9-2.png
END:VEVENT
END:VCALENDAR