BEGIN:VCALENDAR
VERSION:2.0
PRODID:-//Resources For Resilience - ECPv6.15.20//NONSGML v1.0//EN
CALSCALE:GREGORIAN
METHOD:PUBLISH
X-WR-CALNAME:Resources For Resilience
X-ORIGINAL-URL:https://resourcesforresilience.org
X-WR-CALDESC:Events for Resources For Resilience
REFRESH-INTERVAL;VALUE=DURATION:PT1H
X-Robots-Tag:noindex
X-PUBLISHED-TTL:PT1H
BEGIN:VTIMEZONE
TZID:America/New_York
BEGIN:DAYLIGHT
TZOFFSETFROM:-0500
TZOFFSETTO:-0400
TZNAME:EDT
DTSTART:20240310T070000
END:DAYLIGHT
BEGIN:STANDARD
TZOFFSETFROM:-0400
TZOFFSETTO:-0500
TZNAME:EST
DTSTART:20241103T060000
END:STANDARD
BEGIN:DAYLIGHT
TZOFFSETFROM:-0500
TZOFFSETTO:-0400
TZNAME:EDT
DTSTART:20250309T070000
END:DAYLIGHT
BEGIN:STANDARD
TZOFFSETFROM:-0400
TZOFFSETTO:-0500
TZNAME:EST
DTSTART:20251102T060000
END:STANDARD
BEGIN:DAYLIGHT
TZOFFSETFROM:-0500
TZOFFSETTO:-0400
TZNAME:EDT
DTSTART:20260308T070000
END:DAYLIGHT
BEGIN:STANDARD
TZOFFSETFROM:-0400
TZOFFSETTO:-0500
TZNAME:EST
DTSTART:20261101T060000
END:STANDARD
BEGIN:DAYLIGHT
TZOFFSETFROM:-0500
TZOFFSETTO:-0400
TZNAME:EDT
DTSTART:20270314T070000
END:DAYLIGHT
BEGIN:STANDARD
TZOFFSETFROM:-0400
TZOFFSETTO:-0500
TZNAME:EST
DTSTART:20271107T060000
END:STANDARD
END:VTIMEZONE
BEGIN:VEVENT
DTSTART;TZID=America/New_York:20260416T090000
DTEND;TZID=America/New_York:20260416T160000
DTSTAMP:20260419T191645
CREATED:20251117T140321Z
LAST-MODIFIED:20260128T194546Z
UID:10000037-1776330000-1776355200@resourcesforresilience.org
SUMMARY:Leading Through Hard Times (Morganton)
DESCRIPTION:Leading through challenges is tough\, but the right tools can help your team keep thriving. Join us for this 7-hour interactive workshop as we explore new ways to manage stress and keep everyone going—no matter what comes your way. \n\nFREE and open to all WNC residents\, thanks to the support of our generous partners\nREGISTER HERE to attend and receive further event details
URL:https://resourcesforresilience.org/event/leading-through-hard-times-morganton-2/
LOCATION:Foothills Higher Education Center\, 2128 S Sterling St\, Morganton\, NC\, 28655\, United States
CATEGORIES:In-Person Events
ATTACH;FMTTYPE=image/png:https://resourcesforresilience.org/wp-content/uploads/2025/08/5-3.png
END:VEVENT
BEGIN:VEVENT
DTSTART;TZID=America/New_York:20251113T090000
DTEND;TZID=America/New_York:20251113T160000
DTSTAMP:20260419T191645
CREATED:20250917T142846Z
LAST-MODIFIED:20251007T201848Z
UID:10000021-1763024400-1763049600@resourcesforresilience.org
SUMMARY:Leading Through Hard Times (Morganton)
DESCRIPTION:Leading through challenges is tough\, but the right tools can help your team keep thriving. Join us for this 7-hour interactive workshop as we explore new ways to manage stress and keep everyone going—no matter what comes your way. \n\nFREE and open to all WNC residents\, thanks to the support of our generous partners\nCEUs available for an additional fee through Area L AHEC\nREGISTER HERE to attend and receive additional event details
URL:https://resourcesforresilience.org/event/leading-through-hard-times-morganton/
LOCATION:Foothills Higher Education Center\, 2128 S Sterling St\, Morganton\, NC\, 28655\, United States
CATEGORIES:In-Person Events
ATTACH;FMTTYPE=image/png:https://resourcesforresilience.org/wp-content/uploads/2025/08/5-3.png
END:VEVENT
BEGIN:VEVENT
DTSTART;TZID=America/New_York:20251016T140000
DTEND;TZID=America/New_York:20251016T150000
DTSTAMP:20260419T191645
CREATED:20250912T192443Z
LAST-MODIFIED:20250912T192443Z
UID:10000020-1760623200-1760626800@resourcesforresilience.org
SUMMARY:Reconnecting Through Hard Times (Morganton)
DESCRIPTION:Turn good intentions into real support with this 1-hour training that offers simple\, powerful strategies to help others after a crisis. You’ll gain an understanding of how hard times affect us all and learn what to do and say when it matters most. \n\nFREE and open to all WNC residents\, thanks to the support of our generous partners\nREGISTER HERE to attend and receive additional event details
URL:https://resourcesforresilience.org/event/reconnecting-through-hard-times-morganton/
LOCATION:Foothills Higher Education Center\, 2128 S Sterling St\, Morganton\, NC\, 28655\, United States
CATEGORIES:In-Person Events
ATTACH;FMTTYPE=image/png:https://resourcesforresilience.org/wp-content/uploads/2025/08/7-2.png
END:VEVENT
BEGIN:VEVENT
DTSTART;TZID=America/New_York:20250909T100000
DTEND;TZID=America/New_York:20250909T110000
DTSTAMP:20260419T191645
CREATED:20250829T192648Z
LAST-MODIFIED:20250829T193041Z
UID:10000016-1757412000-1757415600@resourcesforresilience.org
SUMMARY:Reconnecting Through Hard Times (Burke)
DESCRIPTION:Tuesday\, September 9\, 10-11am in partnership with Burke County Parks & Rec \nTurn good intentions into real support with this 1-hour training that offers simple\, powerful strategies to help others after a crisis. You’ll gain an understanding of how hard times affect us all and learn what to do and say when it matters most. \n\nFREE and open to all WNC residents\, thanks to the support of our generous partners\nREGISTER HERE to attend and receive additional event details
URL:https://resourcesforresilience.org/event/reconnecting-through-hard-times-burke/
LOCATION:Foothills Higher Education Center\, 2128 S Sterling St\, Morganton\, NC\, 28655\, United States
CATEGORIES:In-Person Events
ATTACH;FMTTYPE=image/png:https://resourcesforresilience.org/wp-content/uploads/2025/08/7-2.png
END:VEVENT
END:VCALENDAR