BEGIN:VCALENDAR
VERSION:2.0
PRODID:-//Resources For Resilience - ECPv6.15.20//NONSGML v1.0//EN
CALSCALE:GREGORIAN
METHOD:PUBLISH
X-ORIGINAL-URL:https://resourcesforresilience.org
X-WR-CALDESC:Events for Resources For Resilience
REFRESH-INTERVAL;VALUE=DURATION:PT1H
X-Robots-Tag:noindex
X-PUBLISHED-TTL:PT1H
BEGIN:VTIMEZONE
TZID:America/New_York
BEGIN:DAYLIGHT
TZOFFSETFROM:-0500
TZOFFSETTO:-0400
TZNAME:EDT
DTSTART:20250309T070000
END:DAYLIGHT
BEGIN:STANDARD
TZOFFSETFROM:-0400
TZOFFSETTO:-0500
TZNAME:EST
DTSTART:20251102T060000
END:STANDARD
BEGIN:DAYLIGHT
TZOFFSETFROM:-0500
TZOFFSETTO:-0400
TZNAME:EDT
DTSTART:20260308T070000
END:DAYLIGHT
BEGIN:STANDARD
TZOFFSETFROM:-0400
TZOFFSETTO:-0500
TZNAME:EST
DTSTART:20261101T060000
END:STANDARD
BEGIN:DAYLIGHT
TZOFFSETFROM:-0500
TZOFFSETTO:-0400
TZNAME:EDT
DTSTART:20270314T070000
END:DAYLIGHT
BEGIN:STANDARD
TZOFFSETFROM:-0400
TZOFFSETTO:-0500
TZNAME:EST
DTSTART:20271107T060000
END:STANDARD
END:VTIMEZONE
BEGIN:VEVENT
DTSTART;TZID=America/New_York:20260424T090000
DTEND;TZID=America/New_York:20260424T160000
DTSTAMP:20260419T105006
CREATED:20251117T140539Z
LAST-MODIFIED:20260210T194341Z
UID:10000038-1777021200-1777046400@resourcesforresilience.org
SUMMARY:*Resiliency Champions (Morganton)*
DESCRIPTION:Passionate about building resilience for yourself and others? In this dynamic 7-hour workshop for past participants of Reconnect\, you’ll gain tools to inspire meaningful change in your organization or community and foster a more resilient future for all. \n\nFREE and open to all WNC residents\, thanks to the support of our generous partners\n6 hours of CEU credit available for an additional fee through Area L AHEC\nREGISTER HERE to attend and receive additional event details\n\n\n 
URL:https://resourcesforresilience.org/event/resiliency-champions-morganton/
LOCATION:Burke United Christian Ministries\, 576 E Fleming Dr\, Morganton\, NC\, 28655\, United States
CATEGORIES:CEU Eligible Events,In-Person Events
ATTACH;FMTTYPE=image/png:https://resourcesforresilience.org/wp-content/uploads/2025/08/23-3.png
END:VEVENT
END:VCALENDAR