BEGIN:VCALENDAR
VERSION:2.0
PRODID:-//Resources For Resilience - ECPv6.15.20//NONSGML v1.0//EN
CALSCALE:GREGORIAN
METHOD:PUBLISH
X-WR-CALNAME:Resources For Resilience
X-ORIGINAL-URL:https://resourcesforresilience.org
X-WR-CALDESC:Events for Resources For Resilience
REFRESH-INTERVAL;VALUE=DURATION:PT1H
X-Robots-Tag:noindex
X-PUBLISHED-TTL:PT1H
BEGIN:VTIMEZONE
TZID:America/New_York
BEGIN:DAYLIGHT
TZOFFSETFROM:-0500
TZOFFSETTO:-0400
TZNAME:EDT
DTSTART:20250309T070000
END:DAYLIGHT
BEGIN:STANDARD
TZOFFSETFROM:-0400
TZOFFSETTO:-0500
TZNAME:EST
DTSTART:20251102T060000
END:STANDARD
BEGIN:DAYLIGHT
TZOFFSETFROM:-0500
TZOFFSETTO:-0400
TZNAME:EDT
DTSTART:20260308T070000
END:DAYLIGHT
BEGIN:STANDARD
TZOFFSETFROM:-0400
TZOFFSETTO:-0500
TZNAME:EST
DTSTART:20261101T060000
END:STANDARD
BEGIN:DAYLIGHT
TZOFFSETFROM:-0500
TZOFFSETTO:-0400
TZNAME:EDT
DTSTART:20270314T070000
END:DAYLIGHT
BEGIN:STANDARD
TZOFFSETFROM:-0400
TZOFFSETTO:-0500
TZNAME:EST
DTSTART:20271107T060000
END:STANDARD
END:VTIMEZONE
BEGIN:VEVENT
DTSTART;TZID=America/New_York:20260304T120000
DTEND;TZID=America/New_York:20260304T130000
DTSTAMP:20260419T081703
CREATED:20251212T183751Z
LAST-MODIFIED:20251216T170715Z
UID:10000066-1772625600-1772629200@resourcesforresilience.org
SUMMARY:Weekly Listening Circle (Virtual)
DESCRIPTION:Every Wednesday | 12 to 1 pm EST on Zoom \nBig events can hit us hard and affect us in many ways. Listening Circles help us name what is most difficult about them and practice tools that can help with the stress\, right now. Join us for weekly 1-hour connection time as we lean on one another and highlight what is getting us through this difficult time. \n\nFREE and open to all WNC residents from January 2026 through June 2026\nREGISTER HERE to receive our Zoom link and drop in any Wednesday\n\n\n\n\n\n\n 
URL:https://resourcesforresilience.org/event/weekly-virtual-listening-circle/2026-03-04/
LOCATION:Zoom (Virtual Meeting)
CATEGORIES:Virtual Events
ATTACH;FMTTYPE=image/png:https://resourcesforresilience.org/wp-content/uploads/2025/08/11-2.png
END:VEVENT
BEGIN:VEVENT
DTSTART;TZID=America/New_York:20260305T120000
DTEND;TZID=America/New_York:20260305T130000
DTSTAMP:20260419T081703
CREATED:20251212T184328Z
LAST-MODIFIED:20251216T203921Z
UID:10000092-1772712000-1772715600@resourcesforresilience.org
SUMMARY:*Weekly 'Reconnecting Through Hard Times' (Virtual) *
DESCRIPTION:Every Thursday | 12 to 1 pm EST on Zoom \nTurn good intentions into real support with this 1-hour training that offers simple\, powerful strategies to help others after a crisis. You’ll gain an understanding of how hard times affect us all and learn what to do and say when it matters most. \n\n\n\nFREE and open to all WNC residents from January 2026 through June 2026\n1 contact hour of continuing education available through Area L AHEC for an additional fee\nREGISTER HERE to receive our Zoom link and drop in any Thursday\n\n\n\n  \n 
URL:https://resourcesforresilience.org/event/weekly-virtual-reconnecting-through-hard-times-ahec-cues-available/2026-03-05/
LOCATION:Zoom (Virtual Meeting)
CATEGORIES:CEU Eligible Events,Virtual Events
ATTACH;FMTTYPE=image/png:https://resourcesforresilience.org/wp-content/uploads/2025/08/7-2.png
END:VEVENT
BEGIN:VEVENT
DTSTART;TZID=America/New_York:20260311T120000
DTEND;TZID=America/New_York:20260311T130000
DTSTAMP:20260419T081703
CREATED:20251212T183751Z
LAST-MODIFIED:20251216T170715Z
UID:10000067-1773230400-1773234000@resourcesforresilience.org
SUMMARY:Weekly Listening Circle (Virtual)
DESCRIPTION:Every Wednesday | 12 to 1 pm EST on Zoom \nBig events can hit us hard and affect us in many ways. Listening Circles help us name what is most difficult about them and practice tools that can help with the stress\, right now. Join us for weekly 1-hour connection time as we lean on one another and highlight what is getting us through this difficult time. \n\nFREE and open to all WNC residents from January 2026 through June 2026\nREGISTER HERE to receive our Zoom link and drop in any Wednesday\n\n\n\n\n\n\n 
URL:https://resourcesforresilience.org/event/weekly-virtual-listening-circle/2026-03-11/
LOCATION:Zoom (Virtual Meeting)
CATEGORIES:Virtual Events
ATTACH;FMTTYPE=image/png:https://resourcesforresilience.org/wp-content/uploads/2025/08/11-2.png
END:VEVENT
BEGIN:VEVENT
DTSTART;TZID=America/New_York:20260312T120000
DTEND;TZID=America/New_York:20260312T130000
DTSTAMP:20260419T081703
CREATED:20251212T184328Z
LAST-MODIFIED:20251216T203921Z
UID:10000093-1773316800-1773320400@resourcesforresilience.org
SUMMARY:*Weekly 'Reconnecting Through Hard Times' (Virtual) *
DESCRIPTION:Every Thursday | 12 to 1 pm EST on Zoom \nTurn good intentions into real support with this 1-hour training that offers simple\, powerful strategies to help others after a crisis. You’ll gain an understanding of how hard times affect us all and learn what to do and say when it matters most. \n\n\n\nFREE and open to all WNC residents from January 2026 through June 2026\n1 contact hour of continuing education available through Area L AHEC for an additional fee\nREGISTER HERE to receive our Zoom link and drop in any Thursday\n\n\n\n  \n 
URL:https://resourcesforresilience.org/event/weekly-virtual-reconnecting-through-hard-times-ahec-cues-available/2026-03-12/
LOCATION:Zoom (Virtual Meeting)
CATEGORIES:CEU Eligible Events,Virtual Events
ATTACH;FMTTYPE=image/png:https://resourcesforresilience.org/wp-content/uploads/2025/08/7-2.png
END:VEVENT
BEGIN:VEVENT
DTSTART;TZID=America/New_York:20260318T120000
DTEND;TZID=America/New_York:20260318T130000
DTSTAMP:20260419T081703
CREATED:20251212T183751Z
LAST-MODIFIED:20251216T170715Z
UID:10000068-1773835200-1773838800@resourcesforresilience.org
SUMMARY:Weekly Listening Circle (Virtual)
DESCRIPTION:Every Wednesday | 12 to 1 pm EST on Zoom \nBig events can hit us hard and affect us in many ways. Listening Circles help us name what is most difficult about them and practice tools that can help with the stress\, right now. Join us for weekly 1-hour connection time as we lean on one another and highlight what is getting us through this difficult time. \n\nFREE and open to all WNC residents from January 2026 through June 2026\nREGISTER HERE to receive our Zoom link and drop in any Wednesday\n\n\n\n\n\n\n 
URL:https://resourcesforresilience.org/event/weekly-virtual-listening-circle/2026-03-18/
LOCATION:Zoom (Virtual Meeting)
CATEGORIES:Virtual Events
ATTACH;FMTTYPE=image/png:https://resourcesforresilience.org/wp-content/uploads/2025/08/11-2.png
END:VEVENT
BEGIN:VEVENT
DTSTART;TZID=America/New_York:20260319T120000
DTEND;TZID=America/New_York:20260319T130000
DTSTAMP:20260419T081703
CREATED:20251212T184328Z
LAST-MODIFIED:20251216T203921Z
UID:10000094-1773921600-1773925200@resourcesforresilience.org
SUMMARY:*Weekly 'Reconnecting Through Hard Times' (Virtual) *
DESCRIPTION:Every Thursday | 12 to 1 pm EST on Zoom \nTurn good intentions into real support with this 1-hour training that offers simple\, powerful strategies to help others after a crisis. You’ll gain an understanding of how hard times affect us all and learn what to do and say when it matters most. \n\n\n\nFREE and open to all WNC residents from January 2026 through June 2026\n1 contact hour of continuing education available through Area L AHEC for an additional fee\nREGISTER HERE to receive our Zoom link and drop in any Thursday\n\n\n\n  \n 
URL:https://resourcesforresilience.org/event/weekly-virtual-reconnecting-through-hard-times-ahec-cues-available/2026-03-19/
LOCATION:Zoom (Virtual Meeting)
CATEGORIES:CEU Eligible Events,Virtual Events
ATTACH;FMTTYPE=image/png:https://resourcesforresilience.org/wp-content/uploads/2025/08/7-2.png
END:VEVENT
BEGIN:VEVENT
DTSTART;TZID=America/New_York:20260326T120000
DTEND;TZID=America/New_York:20260326T130000
DTSTAMP:20260419T081703
CREATED:20251212T184328Z
LAST-MODIFIED:20251216T203921Z
UID:10000095-1774526400-1774530000@resourcesforresilience.org
SUMMARY:*Weekly 'Reconnecting Through Hard Times' (Virtual) *
DESCRIPTION:Every Thursday | 12 to 1 pm EST on Zoom \nTurn good intentions into real support with this 1-hour training that offers simple\, powerful strategies to help others after a crisis. You’ll gain an understanding of how hard times affect us all and learn what to do and say when it matters most. \n\n\n\nFREE and open to all WNC residents from January 2026 through June 2026\n1 contact hour of continuing education available through Area L AHEC for an additional fee\nREGISTER HERE to receive our Zoom link and drop in any Thursday\n\n\n\n  \n 
URL:https://resourcesforresilience.org/event/weekly-virtual-reconnecting-through-hard-times-ahec-cues-available/2026-03-26/
LOCATION:Zoom (Virtual Meeting)
CATEGORIES:CEU Eligible Events,Virtual Events
ATTACH;FMTTYPE=image/png:https://resourcesforresilience.org/wp-content/uploads/2025/08/7-2.png
END:VEVENT
END:VCALENDAR