BEGIN:VCALENDAR
VERSION:2.0
PRODID:-//Resources For Resilience - ECPv6.15.20//NONSGML v1.0//EN
CALSCALE:GREGORIAN
METHOD:PUBLISH
X-WR-CALNAME:Resources For Resilience
X-ORIGINAL-URL:https://resourcesforresilience.org
X-WR-CALDESC:Events for Resources For Resilience
REFRESH-INTERVAL;VALUE=DURATION:PT1H
X-Robots-Tag:noindex
X-PUBLISHED-TTL:PT1H
BEGIN:VTIMEZONE
TZID:America/New_York
BEGIN:DAYLIGHT
TZOFFSETFROM:-0500
TZOFFSETTO:-0400
TZNAME:EDT
DTSTART:20250309T070000
END:DAYLIGHT
BEGIN:STANDARD
TZOFFSETFROM:-0400
TZOFFSETTO:-0500
TZNAME:EST
DTSTART:20251102T060000
END:STANDARD
BEGIN:DAYLIGHT
TZOFFSETFROM:-0500
TZOFFSETTO:-0400
TZNAME:EDT
DTSTART:20260308T070000
END:DAYLIGHT
BEGIN:STANDARD
TZOFFSETFROM:-0400
TZOFFSETTO:-0500
TZNAME:EST
DTSTART:20261101T060000
END:STANDARD
BEGIN:DAYLIGHT
TZOFFSETFROM:-0500
TZOFFSETTO:-0400
TZNAME:EDT
DTSTART:20270314T070000
END:DAYLIGHT
BEGIN:STANDARD
TZOFFSETFROM:-0400
TZOFFSETTO:-0500
TZNAME:EST
DTSTART:20271107T060000
END:STANDARD
END:VTIMEZONE
BEGIN:VEVENT
DTSTART;TZID=America/New_York:20260324T153000
DTEND;TZID=America/New_York:20260324T173000
DTSTAMP:20260419T123324
CREATED:20260210T143317Z
LAST-MODIFIED:20260318T230922Z
UID:10000211-1774366200-1774373400@resourcesforresilience.org
SUMMARY:Resilient Family Adventure (Asheville)
DESCRIPTION:This is RFR’s newest in-person event offering\, designed to make building resilience fun for youth! With nature-inspired activities\, crafts\, and stories suitable elementary age children\, we’re bringing families together to celebrate the strength within us all. As you journey through each station\, collect stamps on your Adventure Card and uncover simple tips and tools to help your family grow stronger together. \n\nFREE and open to all WNC families with young children\, thanks to the support of our generous partners.\nAdvanced Registration strongly encouraged!\n\n\n\n\n\n\n\n\n\n\n\n\n\n\n\n\n\n 
URL:https://resourcesforresilience.org/event/resilient-family-adventure-asheville/
LOCATION:Goodwill Training Center\, Asheville\, 1616 Patton Ave\, Asheville\, NC\, 28806\, United States
CATEGORIES:In-Person Events
ATTACH;FMTTYPE=image/png:https://resourcesforresilience.org/wp-content/uploads/2025/08/13-2.png
END:VEVENT
END:VCALENDAR