BEGIN:VCALENDAR
VERSION:2.0
PRODID:-//Resources For Resilience - ECPv6.15.20//NONSGML v1.0//EN
CALSCALE:GREGORIAN
METHOD:PUBLISH
X-ORIGINAL-URL:https://resourcesforresilience.org
X-WR-CALDESC:Events for Resources For Resilience
REFRESH-INTERVAL;VALUE=DURATION:PT1H
X-Robots-Tag:noindex
X-PUBLISHED-TTL:PT1H
BEGIN:VTIMEZONE
TZID:America/New_York
BEGIN:DAYLIGHT
TZOFFSETFROM:-0500
TZOFFSETTO:-0400
TZNAME:EDT
DTSTART:20240310T070000
END:DAYLIGHT
BEGIN:STANDARD
TZOFFSETFROM:-0400
TZOFFSETTO:-0500
TZNAME:EST
DTSTART:20241103T060000
END:STANDARD
BEGIN:DAYLIGHT
TZOFFSETFROM:-0500
TZOFFSETTO:-0400
TZNAME:EDT
DTSTART:20250309T070000
END:DAYLIGHT
BEGIN:STANDARD
TZOFFSETFROM:-0400
TZOFFSETTO:-0500
TZNAME:EST
DTSTART:20251102T060000
END:STANDARD
BEGIN:DAYLIGHT
TZOFFSETFROM:-0500
TZOFFSETTO:-0400
TZNAME:EDT
DTSTART:20260308T070000
END:DAYLIGHT
BEGIN:STANDARD
TZOFFSETFROM:-0400
TZOFFSETTO:-0500
TZNAME:EST
DTSTART:20261101T060000
END:STANDARD
END:VTIMEZONE
BEGIN:VEVENT
DTSTART;TZID=America/New_York:20250910T090000
DTEND;TZID=America/New_York:20250910T160000
DTSTAMP:20260419T203908
CREATED:20250828T134404Z
LAST-MODIFIED:20250828T184510Z
UID:10000005-1757494800-1757520000@resourcesforresilience.org
SUMMARY:Recharging Resilience (AVL)
DESCRIPTION:September 10\, 2025 | 9 am to 4 pm EST in Asheville\, NC \nIn today’s fast-paced world\, finding time for yourself can feel impossible. Join us for this 7-hour\, interactive workshop to discover simple ways to manage stress\, boost your resilience\, and keep showing up for others—without burning out. \n\nFREE and open to all WNC residents\, thanks to the support of our generous partners\nCEUs available for an additional fee through Area L AHEC\nREGISTER HERE to receive additional event details
URL:https://resourcesforresilience.org/event/recharging-resilience/
LOCATION:Goodwill Training Center\, Asheville\, 1616 Patton Ave\, Asheville\, NC\, 28806\, United States
CATEGORIES:In-Person Events
END:VEVENT
END:VCALENDAR