BEGIN:VCALENDAR
VERSION:2.0
PRODID:-//Resources For Resilience - ECPv6.15.20//NONSGML v1.0//EN
CALSCALE:GREGORIAN
METHOD:PUBLISH
X-ORIGINAL-URL:https://resourcesforresilience.org
X-WR-CALDESC:Events for Resources For Resilience
REFRESH-INTERVAL;VALUE=DURATION:PT1H
X-Robots-Tag:noindex
X-PUBLISHED-TTL:PT1H
BEGIN:VTIMEZONE
TZID:America/New_York
BEGIN:DAYLIGHT
TZOFFSETFROM:-0500
TZOFFSETTO:-0400
TZNAME:EDT
DTSTART:20250309T070000
END:DAYLIGHT
BEGIN:STANDARD
TZOFFSETFROM:-0400
TZOFFSETTO:-0500
TZNAME:EST
DTSTART:20251102T060000
END:STANDARD
BEGIN:DAYLIGHT
TZOFFSETFROM:-0500
TZOFFSETTO:-0400
TZNAME:EDT
DTSTART:20260308T070000
END:DAYLIGHT
BEGIN:STANDARD
TZOFFSETFROM:-0400
TZOFFSETTO:-0500
TZNAME:EST
DTSTART:20261101T060000
END:STANDARD
BEGIN:DAYLIGHT
TZOFFSETFROM:-0500
TZOFFSETTO:-0400
TZNAME:EDT
DTSTART:20270314T070000
END:DAYLIGHT
BEGIN:STANDARD
TZOFFSETFROM:-0400
TZOFFSETTO:-0500
TZNAME:EST
DTSTART:20271107T060000
END:STANDARD
END:VTIMEZONE
BEGIN:VEVENT
DTSTART;TZID=America/New_York:20260616T090000
DTEND;TZID=America/New_York:20260617T170000
DTSTAMP:20260419T140415
CREATED:20251217T150240Z
LAST-MODIFIED:20260210T162022Z
UID:10000204-1781600400-1781715600@resourcesforresilience.org
SUMMARY:*Reconnect for Resilience (Virtual)*
DESCRIPTION:Learn easy-to-use\, shareable tools that are designed for real life—whether you’re stressed at work\, in your car\, or even at the store. In this 14-hour\, interactive training\, you’ll learn the science of stress management and ways to build resilience in yourself and those around you. \n\nFREE and open to all WNC residents\, thanks to the support of our generous partners\n14 hours of continuing education credit (CEU) available through Area L AHEC\nREGISTER HERE to attend and receive additional event details
URL:https://resourcesforresilience.org/event/reconnect-for-resilience-virtual-2/
LOCATION:Zoom (Virtual Meeting)
CATEGORIES:CEU Eligible Events,Virtual Events
ATTACH;FMTTYPE=image/png:https://resourcesforresilience.org/wp-content/uploads/2025/08/9-2.png
END:VEVENT
BEGIN:VEVENT
DTSTART;TZID=America/New_York:20260618T120000
DTEND;TZID=America/New_York:20260618T130000
DTSTAMP:20260419T140415
CREATED:20251212T184328Z
LAST-MODIFIED:20251216T203921Z
UID:10000107-1781784000-1781787600@resourcesforresilience.org
SUMMARY:*Weekly 'Reconnecting Through Hard Times' (Virtual) *
DESCRIPTION:Every Thursday | 12 to 1 pm EST on Zoom \nTurn good intentions into real support with this 1-hour training that offers simple\, powerful strategies to help others after a crisis. You’ll gain an understanding of how hard times affect us all and learn what to do and say when it matters most. \n\n\n\nFREE and open to all WNC residents from January 2026 through June 2026\n1 contact hour of continuing education available through Area L AHEC for an additional fee\nREGISTER HERE to receive our Zoom link and drop in any Thursday\n\n\n\n  \n 
URL:https://resourcesforresilience.org/event/weekly-virtual-reconnecting-through-hard-times-ahec-cues-available/2026-06-18/
LOCATION:Zoom (Virtual Meeting)
CATEGORIES:CEU Eligible Events,Virtual Events
ATTACH;FMTTYPE=image/png:https://resourcesforresilience.org/wp-content/uploads/2025/08/7-2.png
END:VEVENT
BEGIN:VEVENT
DTSTART;TZID=America/New_York:20260625T120000
DTEND;TZID=America/New_York:20260625T130000
DTSTAMP:20260419T140415
CREATED:20251212T184328Z
LAST-MODIFIED:20251216T203921Z
UID:10000108-1782388800-1782392400@resourcesforresilience.org
SUMMARY:*Weekly 'Reconnecting Through Hard Times' (Virtual) *
DESCRIPTION:Every Thursday | 12 to 1 pm EST on Zoom \nTurn good intentions into real support with this 1-hour training that offers simple\, powerful strategies to help others after a crisis. You’ll gain an understanding of how hard times affect us all and learn what to do and say when it matters most. \n\n\n\nFREE and open to all WNC residents from January 2026 through June 2026\n1 contact hour of continuing education available through Area L AHEC for an additional fee\nREGISTER HERE to receive our Zoom link and drop in any Thursday\n\n\n\n  \n 
URL:https://resourcesforresilience.org/event/weekly-virtual-reconnecting-through-hard-times-ahec-cues-available/2026-06-25/
LOCATION:Zoom (Virtual Meeting)
CATEGORIES:CEU Eligible Events,Virtual Events
ATTACH;FMTTYPE=image/png:https://resourcesforresilience.org/wp-content/uploads/2025/08/7-2.png
END:VEVENT
END:VCALENDAR